BEGIN:VCALENDAR
VERSION:2.0
PRODID:-//GPEX Central - ECPv5.10.0//NONSGML v1.0//EN
CALSCALE:GREGORIAN
METHOD:PUBLISH
X-WR-CALNAME:GPEX Central
X-ORIGINAL-URL:https://gpexcentral.org
X-WR-CALDESC:Events for GPEX Central
BEGIN:VTIMEZONE
TZID:UTC
BEGIN:STANDARD
TZOFFSETFROM:+0000
TZOFFSETTO:+0000
TZNAME:UTC
DTSTART:20160101T000000
END:STANDARD
END:VTIMEZONE
BEGIN:VEVENT
DTSTART;TZID=UTC:20160605T143000
DTEND;TZID=UTC:20160605T170000
DTSTAMP:20260423T095721
CREATED:20160729T075606Z
LAST-MODIFIED:20160729T082155Z
UID:133-1465137000-1465146000@gpexcentral.org
SUMMARY:Launching of the new Cambridge English Exam Centre
DESCRIPTION:Dear teachers\,\nWith a good level of English\, children can transform their future. CambridgeEnglish: Young Learners is a range of tests designed to help children build their confidence in English\, keeping them motivated and excited to learn. You are cordially invited to attend the launching of our new Cambridge English Language Assessment Authorised Centre – GPEX Central Hong Kong Limited. \nKindly see below for the details of the launching:\nDate:               5th June 2016\nTime:               2:30 pm – 4:00 pm (registration at 2:00 pm)\nVenue:             Studio 1 & 2\, 7/F\, W Hotel\, Kowloon\nCost:                Free! \nRSVP is essential as spaces are limited. Please register by June 1\, 2016(Wednesday) to secure your place at this event. Canapés and free flow of beverages will be served during the event.\n\nFree gift to bring home!!! We will be giving out free Young Learners’ Puppet Monkeys by Cambridge English to every kindergarten that signs up with GPEX Central Hong Kong as a Cambridge English Official Preparation Centre!!!
URL:https://gpexcentral.org/event/launching-of-the-new-cambridge-english-exam-centre/
LOCATION:W Hotel\, Studio 1 & 2 \, 7/F \, Kowloon\, Hong Kong
CATEGORIES:Launching of New Centre
ATTACH;FMTTYPE=image/jpeg:https://gpexcentral.org/wp-content/uploads/2016/07/13254625_664594153693259_1670104209661472073_n.jpg
END:VEVENT
END:VCALENDAR